BEGIN:VCALENDAR
VERSION:2.0
PRODID:-//EMPIRE CAPITAL &amp; CONSULTING CORP. - ECPv6.15.15//NONSGML v1.0//EN
CALSCALE:GREGORIAN
METHOD:PUBLISH
X-WR-CALNAME:EMPIRE CAPITAL &amp; CONSULTING CORP.
X-ORIGINAL-URL:https://empirecapital1.com
X-WR-CALDESC:Events for EMPIRE CAPITAL &amp; CONSULTING CORP.
REFRESH-INTERVAL;VALUE=DURATION:PT1H
X-Robots-Tag:noindex
X-PUBLISHED-TTL:PT1H
BEGIN:VTIMEZONE
TZID:America/New_York
BEGIN:DAYLIGHT
TZOFFSETFROM:-0500
TZOFFSETTO:-0400
TZNAME:EDT
DTSTART:20250309T070000
END:DAYLIGHT
BEGIN:STANDARD
TZOFFSETFROM:-0400
TZOFFSETTO:-0500
TZNAME:EST
DTSTART:20251102T060000
END:STANDARD
BEGIN:DAYLIGHT
TZOFFSETFROM:-0500
TZOFFSETTO:-0400
TZNAME:EDT
DTSTART:20260308T070000
END:DAYLIGHT
BEGIN:STANDARD
TZOFFSETFROM:-0400
TZOFFSETTO:-0500
TZNAME:EST
DTSTART:20261101T060000
END:STANDARD
BEGIN:DAYLIGHT
TZOFFSETFROM:-0500
TZOFFSETTO:-0400
TZNAME:EDT
DTSTART:20270314T070000
END:DAYLIGHT
BEGIN:STANDARD
TZOFFSETFROM:-0400
TZOFFSETTO:-0500
TZNAME:EST
DTSTART:20271107T060000
END:STANDARD
END:VTIMEZONE
BEGIN:VEVENT
DTSTART;TZID=America/New_York:20260619T080000
DTEND;TZID=America/New_York:20260619T170000
DTSTAMP:20260423T224323
CREATED:20260416T003017Z
LAST-MODIFIED:20260416T003018Z
UID:4688-1781856000-1781888400@empirecapital1.com
SUMMARY:Philadelphia Economic Freedom Summit
DESCRIPTION:Join us in Philadelphia for a powerful gathering focused on advancing economic opportunity\, entrepreneurship\, and financial independence. The Philadelphia Economic Freedom Summit brings together business leaders\, investors\, and forward-thinking professionals committed to driving growth and expanding access to opportunity. \n\n\n\nEngage in meaningful discussions\, gain actionable insights\, and connect with key stakeholders shaping the future of economic development. Whether you’re looking to scale your business\, explore new markets\, or build strategic partnerships\, this summit offers valuable tools and connections to help you move forward. \n\n\n\nBe part of the conversation shaping tomorrow’s economy.
URL:https://empirecapital1.com/events/philadelphia-economic-freedom-summit/
ATTACH;FMTTYPE=image/png:https://empirecapital1.com/wp-content/uploads/2026/04/4.-6-19-Cumbre-de-Libertad-Economica-de-Filadelfia-—-Filadelfia.png
END:VEVENT
END:VCALENDAR