BEGIN:VCALENDAR
VERSION:2.0
PRODID:-//EMPIRE CAPITAL &amp; CONSULTING CORP. - ECPv6.15.15//NONSGML v1.0//EN
CALSCALE:GREGORIAN
METHOD:PUBLISH
X-ORIGINAL-URL:https://empirecapital1.com
X-WR-CALDESC:Events for EMPIRE CAPITAL &amp; CONSULTING CORP.
REFRESH-INTERVAL;VALUE=DURATION:PT1H
X-Robots-Tag:noindex
X-PUBLISHED-TTL:PT1H
BEGIN:VTIMEZONE
TZID:America/New_York
BEGIN:DAYLIGHT
TZOFFSETFROM:-0500
TZOFFSETTO:-0400
TZNAME:EDT
DTSTART:20240310T070000
END:DAYLIGHT
BEGIN:STANDARD
TZOFFSETFROM:-0400
TZOFFSETTO:-0500
TZNAME:EST
DTSTART:20241103T060000
END:STANDARD
BEGIN:DAYLIGHT
TZOFFSETFROM:-0500
TZOFFSETTO:-0400
TZNAME:EDT
DTSTART:20250309T070000
END:DAYLIGHT
BEGIN:STANDARD
TZOFFSETFROM:-0400
TZOFFSETTO:-0500
TZNAME:EST
DTSTART:20251102T060000
END:STANDARD
BEGIN:DAYLIGHT
TZOFFSETFROM:-0500
TZOFFSETTO:-0400
TZNAME:EDT
DTSTART:20260308T070000
END:DAYLIGHT
BEGIN:STANDARD
TZOFFSETFROM:-0400
TZOFFSETTO:-0500
TZNAME:EST
DTSTART:20261101T060000
END:STANDARD
END:VTIMEZONE
BEGIN:VEVENT
DTSTART;TZID=America/New_York:20250614T080000
DTEND;TZID=America/New_York:20250614T170000
DTSTAMP:20260424T095438
CREATED:20240329T172435Z
LAST-MODIFIED:20250424T195329Z
UID:3295-1749888000-1749920400@empirecapital1.com
SUMMARY:Beach & Buns I
DESCRIPTION:Our beach trip where we get to relax from all of the political craziness\, enjoy the beauty of the beach\, AND have fun in the sun showing off (or looking at) those buns that many of us are so proud of.
URL:https://empirecapital1.com/events/atlanta-small-business-expo/
LOCATION:Atlantic City Shore Line\, 1636 Boardwalk\, Atlantic City
ATTACH;FMTTYPE=image/png:https://empirecapital1.com/wp-content/uploads/2024/03/DALL·E-2025-02-05-13.11.png
END:VEVENT
END:VCALENDAR