BEGIN:VCALENDAR
VERSION:2.0
PRODID:-//EMPIRE CAPITAL &amp; CONSULTING CORP. - ECPv6.15.15//NONSGML v1.0//EN
CALSCALE:GREGORIAN
METHOD:PUBLISH
X-ORIGINAL-URL:https://empirecapital1.com
X-WR-CALDESC:Events for EMPIRE CAPITAL &amp; CONSULTING CORP.
REFRESH-INTERVAL;VALUE=DURATION:PT1H
X-Robots-Tag:noindex
X-PUBLISHED-TTL:PT1H
BEGIN:VTIMEZONE
TZID:America/New_York
BEGIN:DAYLIGHT
TZOFFSETFROM:-0500
TZOFFSETTO:-0400
TZNAME:EDT
DTSTART:20240310T070000
END:DAYLIGHT
BEGIN:STANDARD
TZOFFSETFROM:-0400
TZOFFSETTO:-0500
TZNAME:EST
DTSTART:20241103T060000
END:STANDARD
BEGIN:DAYLIGHT
TZOFFSETFROM:-0500
TZOFFSETTO:-0400
TZNAME:EDT
DTSTART:20250309T070000
END:DAYLIGHT
BEGIN:STANDARD
TZOFFSETFROM:-0400
TZOFFSETTO:-0500
TZNAME:EST
DTSTART:20251102T060000
END:STANDARD
BEGIN:DAYLIGHT
TZOFFSETFROM:-0500
TZOFFSETTO:-0400
TZNAME:EDT
DTSTART:20260308T070000
END:DAYLIGHT
BEGIN:STANDARD
TZOFFSETFROM:-0400
TZOFFSETTO:-0500
TZNAME:EST
DTSTART:20261101T060000
END:STANDARD
END:VTIMEZONE
BEGIN:VEVENT
DTSTART;TZID=America/New_York:20250503T080000
DTEND;TZID=America/New_York:20250503T210000
DTSTAMP:20260424T113158
CREATED:20240103T190318Z
LAST-MODIFIED:20250424T195025Z
UID:2460-1746259200-1746306000@empirecapital1.com
SUMMARY:Passport D.C
DESCRIPTION:Tour lots of embassies from countries around the world and learn their culture and customs. Learn new languages and greetings. Meet new social (and business) contacts that you may use if and when you visit that particular country. Some of the embassies open to us include:  \n\n\n\n\nBarbados\n\n\n\nEthiopia\n\n\n\nBurkina Faso\n\n\n\nColumbia\n\n\n\nKenya\n\n\n\nChina\n\n\n\nCosta Rica\n\n\n\nPhilippines\n\n\n\nGabon\n\n\n\nCote d’Ivoire\n\n\n\nSaudi Arabia\n\n\n\nHaiti\n\n\n\nDominican Republic\n\n\n\nSenegal\n\n\n\n Indonesia\n\n\n\nEgypt\n\n\n\nMexico\n\n\n\nTrinidad & Tobago   
URL:https://empirecapital1.com/events/newport-jazz-festival/
ATTACH;FMTTYPE=image/png:https://empirecapital1.com/wp-content/uploads/2024/01/srs.png
END:VEVENT
BEGIN:VEVENT
DTSTART;TZID=America/New_York:20250507T100000
DTEND;TZID=America/New_York:20250507T170000
DTSTAMP:20260424T113158
CREATED:20250422T193633Z
LAST-MODIFIED:20250422T194929Z
UID:4236-1746612000-1746637200@empirecapital1.com
SUMMARY:2025 NYC Small Business Expo
DESCRIPTION:THE LARGEST BUSINESS EVENT IN THE US IS COMING TO NEW YORK CITY \n\n\n\nGain access to vendors\, connect with potential partners in your industry\, & grow your network for FREE!Attend 35+ Free Keynotes\, Workshops & Seminars  \n\n\n\n\nLearn from 20 Top Industry Experts *\n\n\n\nMarket Your Business & Expand Your Network \n\n\n\nConnect with 1\,500 Fellow Entrepreneurs\n\n\n\n\n\nREGISTER HERE\n\n\n\n\n\n\n\n\n\n\nInspiring Keynotes & WorkshopsGain fresh perspectives and practical advice from top industry experts. Participate in workshops and keynote sessions that address the challenges and opportunities small businesses face today.Meet Vendors Face-to-FaceConnect with vendors eager to support your growth. Discover new tools\, services\, and ideas to help streamline and accelerate your business.Grow Your NetworkBuild strategic connections with hundreds of small business owners who are just as driven and goal-oriented as you. Forge meaningful relationships that can lead to future collaborations and mutual growth.Gain Actionable InsightsStay informed on the latest business trends and strategies. Walk away with valuable insights and a refreshed perspective to accelerate your business’s next steps.
URL:https://empirecapital1.com/events/2025-nyc-small-business-expo/
LOCATION:Javits Convention Center\, 429 11th Ave\, New York\, New York\, 10001\, United States
ATTACH;FMTTYPE=image/jpeg:https://empirecapital1.com/wp-content/uploads/2025/04/small-business-expo.jpg
END:VEVENT
END:VCALENDAR