BEGIN:VCALENDAR
VERSION:2.0
PRODID:-//EMPIRE CAPITAL &amp; CONSULTING CORP. - ECPv6.15.15//NONSGML v1.0//EN
CALSCALE:GREGORIAN
METHOD:PUBLISH
X-WR-CALNAME:EMPIRE CAPITAL &amp; CONSULTING CORP.
X-ORIGINAL-URL:https://empirecapital1.com
X-WR-CALDESC:Events for EMPIRE CAPITAL &amp; CONSULTING CORP.
REFRESH-INTERVAL;VALUE=DURATION:PT1H
X-Robots-Tag:noindex
X-PUBLISHED-TTL:PT1H
BEGIN:VTIMEZONE
TZID:America/New_York
BEGIN:DAYLIGHT
TZOFFSETFROM:-0500
TZOFFSETTO:-0400
TZNAME:EDT
DTSTART:20230312T070000
END:DAYLIGHT
BEGIN:STANDARD
TZOFFSETFROM:-0400
TZOFFSETTO:-0500
TZNAME:EST
DTSTART:20231105T060000
END:STANDARD
BEGIN:DAYLIGHT
TZOFFSETFROM:-0500
TZOFFSETTO:-0400
TZNAME:EDT
DTSTART:20240310T070000
END:DAYLIGHT
BEGIN:STANDARD
TZOFFSETFROM:-0400
TZOFFSETTO:-0500
TZNAME:EST
DTSTART:20241103T060000
END:STANDARD
BEGIN:DAYLIGHT
TZOFFSETFROM:-0500
TZOFFSETTO:-0400
TZNAME:EDT
DTSTART:20250309T070000
END:DAYLIGHT
BEGIN:STANDARD
TZOFFSETFROM:-0400
TZOFFSETTO:-0500
TZNAME:EST
DTSTART:20251102T060000
END:STANDARD
END:VTIMEZONE
BEGIN:VEVENT
DTSTART;TZID=America/New_York:20241018T080000
DTEND;TZID=America/New_York:20241019T170000
DTSTAMP:20260424T210639
CREATED:20240123T205505Z
LAST-MODIFIED:20240206T155707Z
UID:2829-1729238400-1729357200@empirecapital1.com
SUMMARY:National Tribe Meeting
DESCRIPTION:Once again\, The Tribe will have its National Meet & Greet near the beach in Miami. Meet your fellow Tribe Warriors from all across the country as we get new details on investment opportunities that we can capitalize on. Let’s rejoice in our sharpened stock trading skills and compare notes.  \n\n\n\nLet’s celebrate the increased profitability of our real estate transactions that we have done… as we actively look for more in Miami\, South Florida\, and wherever else the sun shines brightly. We gather to do the deal\, not just talk about it. So bring your deal\, and your sunglasses with you\, as we smile and prepare for the next set of victories.This event is RESTRICTED TO TRIBE WARRIORS ONLY. \n\n\n\n$250 Early-bird rate 2/5-3/31$325 Advanced rate 4/1-6/30$375 Regular rate 7/1-9-30\n\n\n\n \n\n\n\n\nBUY TICKETS\n\n\n\n\n\n\n\n\n\n\nNO ADMISSION AFTER 9/30/24. There is no late fee. We don’t do “late!”Friday Agenda8:30 Welcome9:00 Stock maximization strategies and tactics10:00 Real estate acquisition\, management\, and maximization strategies and tactics11:00 Business acquisitions\, investment\, and funding strategies and tacticsNoon Lunch in Little Havana1:00 Tour Hot sections of the city4:00 Life is a Beach… so let’s go party (Optional: Either South Beach or Key West) \n\n\n\nSaturday: DEAL DAY (D-Day) \n\n\n\n8:30 Deal analysis; How to know when you have a great deal.9:00 Deal specifics: We will review current deal offerings10:00 Deal inspections: We travel to specific deals being offered and inspect them1:00 Deal decision-making: Are you in or out?3:00 Let’s go: It’s time!4: 00 Party at the beach (optional)
URL:https://empirecapital1.com/events/national-tribe-meeting/
ATTACH;FMTTYPE=image/jpeg:https://empirecapital1.com/wp-content/uploads/2024/01/national-tribe-meeting.jpg
END:VEVENT
END:VCALENDAR